BEGIN:VCALENDAR
VERSION:2.0
PRODID:-//Sophicity/Tribune/Lithonia, GA
BEGIN:VEVENT
DTSTAMP:20260422T091308Z
UID:bc90973f-9ce3-420f-8b90-a9282563f984-4379
DTSTART:20251025T150000Z
DTEND:20251025T190000Z
LOCATION:Bruce Street Park
CLASS:PUBLIC
SUMMARY:Fall Festival
END:VEVENT
END:VCALENDAR
