BEGIN:VCALENDAR
VERSION:2.0
PRODID:-//Sophicity/Tribune/Lithonia, GA
BEGIN:VEVENT
DTSTAMP:20260422T090446Z
UID:bc90973f-9ce3-420f-8b90-a9282563f984-4375
DTSTART:20250908T220000Z
DTEND:20250908T230000Z
LOCATION:6920 Main Street
CLASS:PUBLIC
SUMMARY:Notice of Public Hearing for Annexation
END:VEVENT
END:VCALENDAR
