BEGIN:VCALENDAR
VERSION:2.0
PRODID:-//Sophicity/Tribune/Lithonia, GA
BEGIN:VEVENT
DTSTAMP:20260425T145426Z
UID:bc90973f-9ce3-420f-8b90-a9282563f984-4365
DTSTART:20260524T163000Z
DTEND:20260525T003000Z
LOCATION:Lithonia Amphitheater
CLASS:PUBLIC
SUMMARY:Guyana Association
END:VEVENT
END:VCALENDAR
