BEGIN:VCALENDAR
VERSION:2.0
PRODID:-//Sophicity/Tribune/Lithonia, GA
BEGIN:VEVENT
DTSTAMP:20260422T090953Z
UID:bc90973f-9ce3-420f-8b90-a9282563f984-4207
DTSTART:20231217T170000Z
DTEND:20231217T230000Z
CLASS:PUBLIC
SUMMARY:Jingle on Main Christmas Parade and Festival
END:VEVENT
END:VCALENDAR
