BEGIN:VCALENDAR
VERSION:2.0
PRODID:-//Sophicity/Tribune/Lithonia, GA
BEGIN:VEVENT
DTSTAMP:20260422T093335Z
UID:bc90973f-9ce3-420f-8b90-a9282563f984-4206
DTSTART:20231118T150000Z
DTEND:20231118T190000Z
CLASS:PUBLIC
SUMMARY:City-Wide Clean Up
END:VEVENT
END:VCALENDAR
