BEGIN:VCALENDAR
VERSION:2.0
PRODID:-//Sophicity/Tribune/Lithonia, GA
BEGIN:VEVENT
DTSTAMP:20260422T091122Z
UID:bc90973f-9ce3-420f-8b90-a9282563f984-3832
DTSTART:20210715T230000Z
DTEND:20210719T010000Z
LOCATION:7373 Covington Hwy Lithonia, GA 30058
CLASS:PUBLIC
SUMMARY:Turning Point - Faith for Breaking Through Barriers
END:VEVENT
END:VCALENDAR
