BEGIN:VCALENDAR
VERSION:2.0
PRODID:-//Sophicity/Tribune/Lithonia, GA
BEGIN:VEVENT
DTSTAMP:20260422T090943Z
UID:bc90973f-9ce3-420f-8b90-a9282563f984-3732
DTSTART:20210515T160000Z
DTEND:20210515T180000Z
LOCATION:Overcomers Church
CLASS:PUBLIC
SUMMARY:Turning Your Mess Into Success
END:VEVENT
END:VCALENDAR
